BEGIN:VCALENDAR
VERSION:2.0
PRODID:-//SAN Airport - ECPv6.15.17.1//NONSGML v1.0//EN
CALSCALE:GREGORIAN
METHOD:PUBLISH
X-WR-CALNAME:SAN Airport
X-ORIGINAL-URL:https://www.san.org
X-WR-CALDESC:Events for SAN Airport
REFRESH-INTERVAL;VALUE=DURATION:PT1H
X-Robots-Tag:noindex
X-PUBLISHED-TTL:PT1H
BEGIN:VTIMEZONE
TZID:America/Los_Angeles
BEGIN:DAYLIGHT
TZOFFSETFROM:-0800
TZOFFSETTO:-0700
TZNAME:PDT
DTSTART:20250309T100000
END:DAYLIGHT
BEGIN:STANDARD
TZOFFSETFROM:-0700
TZOFFSETTO:-0800
TZNAME:PST
DTSTART:20251102T090000
END:STANDARD
BEGIN:DAYLIGHT
TZOFFSETFROM:-0800
TZOFFSETTO:-0700
TZNAME:PDT
DTSTART:20260308T100000
END:DAYLIGHT
BEGIN:STANDARD
TZOFFSETFROM:-0700
TZOFFSETTO:-0800
TZNAME:PST
DTSTART:20261101T090000
END:STANDARD
BEGIN:DAYLIGHT
TZOFFSETFROM:-0800
TZOFFSETTO:-0700
TZNAME:PDT
DTSTART:20270314T100000
END:DAYLIGHT
BEGIN:STANDARD
TZOFFSETFROM:-0700
TZOFFSETTO:-0800
TZNAME:PST
DTSTART:20271107T090000
END:STANDARD
END:VTIMEZONE
BEGIN:VEVENT
DTSTART;TZID=America/Los_Angeles:20260427T103000
DTEND;TZID=America/Los_Angeles:20260427T133000
DTSTAMP:20260425T082515
CREATED:20251128T075159Z
LAST-MODIFIED:20260327T195226Z
UID:10000149-1777285800-1777296600@www.san.org
SUMMARY:Tasha Smith Godinez
DESCRIPTION:Tasha Smith Godinez is a San Diego–born harpist\, composer\, and recording artist whose innovative approach to the instrument has taken her to stages and festivals around the world. With advanced degrees from San Diego State University and l’Ecole Normale de Musique Alfred Corot in Paris\, she brings a dynamic repertoire that spans classical\, contemporary\, and original works. Learn more about Tasha at tashasmithgodinez.com.
URL:https://www.san.org/event/tasha-smith-godinez/2026-04-27/
LOCATION:Terminal 1 – Heritage Stage
CATEGORIES:Music
ATTACH;FMTTYPE=image/jpeg:https://www.san.org/wp-content/uploads/2025/11/Tasha-Smith-Godinez-Landscape.jpg
END:VEVENT
BEGIN:VEVENT
DTSTART;TZID=America/Los_Angeles:20260430T163000
DTEND;TZID=America/Los_Angeles:20260430T193000
DTSTAMP:20260425T082515
CREATED:20260407T184051Z
LAST-MODIFIED:20260407T213352Z
UID:10000163-1777566600-1777577400@www.san.org
SUMMARY:A Step Beyond
DESCRIPTION:Performing Arts Residency Featuring A Step Beyond \nSan Diego thrives on the influence of transplants and newcomers. This Spring\, A Step Beyond honors the experiences of people making a home in San Diego and brings those journeys of belonging to the airport’s terminal through a series of new dances entitled Migration: Making a Home in Transit. \nA Step Beyond is a North County San Diego–based creative youth development organization that empowers young people through dance\, academic support\, and family services. This year marks the graduation of the organization’s fourth cohort of students\, who have participated in the program from elementary school through high school and are now moving on to college and career paths. \nPerformed by student dancers\, alumni\, and teaching artists\, the project’s site-responsive dances are created with passengers.  Each dance reflects the performers lived experiences and examines how we navigate the meaning of home amid changing environments and the realities of everyday life. \nJoin us for an in-progress rehearsal:  \n4:30-6:00 p.m. | Terminal 1 East Concourse (Post-Security) \n6:00-7:30 p.m. | Terminal 1 East Ticketing Hall and Baggage Claim (Pre-Security)
URL:https://www.san.org/event/a-step-beyond-11/
LOCATION:Terminal 1\, 3301 N. Harbor Drive\, San Diego\, CA\, United States
CATEGORIES:Performance
ATTACH;FMTTYPE=image/jpeg:https://www.san.org/wp-content/uploads/2026/02/January29th_2026-57-scaled.jpg
END:VEVENT
BEGIN:VEVENT
DTSTART;TZID=America/Los_Angeles:20260502T160000
DTEND;TZID=America/Los_Angeles:20260502T190000
DTSTAMP:20260425T082515
CREATED:20260407T213734Z
LAST-MODIFIED:20260407T214006Z
UID:10000165-1777737600-1777748400@www.san.org
SUMMARY:A Step Beyond
DESCRIPTION:Performing Arts Residency Featuring A Step Beyond \nSan Diego thrives on the influence of transplants and newcomers. This Spring\, A Step Beyond honors the experiences of people making a home in San Diego and brings those journeys of belonging to the airport’s terminal through a series of new dances entitled Migration: Making a Home in Transit. \nA Step Beyond is a North County San Diego–based creative youth development organization that empowers young people through dance\, academic support\, and family services. This year marks the graduation of the organization’s fourth cohort of students\, who have participated in the program from elementary school through high school and are now moving on to college and career paths. \nPerformed by student dancers\, alumni\, and teaching artists\, the project’s site-responsive dances are created with passengers.  Each dance reflects the performers lived experiences and examines how we navigate the meaning of home amid changing environments and the realities of everyday life. \nJoin us for an in-progress rehearsal:  \n4:00-5:00 p.m. | Terminal 1 East Concourse (Post-Security) \n5:00-7:00 p.m. | Terminal 1 East Pedestrian Walkway\, Ticketing Hall and Baggage Claim (Pre-Security)
URL:https://www.san.org/event/a-step-beyond-13/
LOCATION:Terminal 1\, 3301 N. Harbor Drive\, San Diego\, CA\, United States
CATEGORIES:Performance
ATTACH;FMTTYPE=image/jpeg:https://www.san.org/wp-content/uploads/2026/02/January29th_2026-57-scaled.jpg
END:VEVENT
BEGIN:VEVENT
DTSTART;TZID=America/Los_Angeles:20260507T163000
DTEND;TZID=America/Los_Angeles:20260507T193000
DTSTAMP:20260425T082515
CREATED:20260407T213715Z
LAST-MODIFIED:20260407T213715Z
UID:10000164-1778171400-1778182200@www.san.org
SUMMARY:A Step Beyond
DESCRIPTION:Performing Arts Residency Featuring A Step Beyond \nSan Diego thrives on the influence of transplants and newcomers. This Spring\, A Step Beyond honors the experiences of people making a home in San Diego and brings those journeys of belonging to the airport’s terminal through a series of new dances entitled Migration: Making a Home in Transit. \nA Step Beyond is a North County San Diego–based creative youth development organization that empowers young people through dance\, academic support\, and family services. This year marks the graduation of the organization’s fourth cohort of students\, who have participated in the program from elementary school through high school and are now moving on to college and career paths. \nPerformed by student dancers\, alumni\, and teaching artists\, the project’s site-responsive dances are created with passengers.  Each dance reflects the performers lived experiences and examines how we navigate the meaning of home amid changing environments and the realities of everyday life. \nJoin us for a performance:  \n4:30-5:30 p.m. | Terminal 1 East Concourse (Post-Security) \n6:00-7:30 p.m. | Terminal 1 East Pedestrian Walkway\, Ticketing Hall and Baggage Claim (Pre-Security)
URL:https://www.san.org/event/a-step-beyond-12/
LOCATION:Terminal 1\, 3301 N. Harbor Drive\, San Diego\, CA\, United States
CATEGORIES:Performance
ATTACH;FMTTYPE=image/jpeg:https://www.san.org/wp-content/uploads/2026/02/January29th_2026-57-scaled.jpg
END:VEVENT
BEGIN:VEVENT
DTSTART;TZID=America/Los_Angeles:20260514T163000
DTEND;TZID=America/Los_Angeles:20260514T193000
DTSTAMP:20260425T082515
CREATED:20260407T214041Z
LAST-MODIFIED:20260407T214041Z
UID:10000167-1778776200-1778787000@www.san.org
SUMMARY:A Step Beyond
DESCRIPTION:Performing Arts Residency Featuring A Step Beyond \nSan Diego thrives on the influence of transplants and newcomers. This Spring\, A Step Beyond honors the experiences of people making a home in San Diego and brings those journeys of belonging to the airport’s terminal through a series of new dances entitled Migration: Making a Home in Transit. \nA Step Beyond is a North County San Diego–based creative youth development organization that empowers young people through dance\, academic support\, and family services. This year marks the graduation of the organization’s fourth cohort of students\, who have participated in the program from elementary school through high school and are now moving on to college and career paths. \nPerformed by student dancers\, alumni\, and teaching artists\, the project’s site-responsive dances are created with passengers.  Each dance reflects the performers lived experiences and examines how we navigate the meaning of home amid changing environments and the realities of everyday life. \nJoin us for a performance:  \n4:30-5:30 p.m. | Terminal 1 East Concourse (Post-Security) \n6:00-7:30 p.m. | Terminal 1 East Pedestrian Walkway\, Ticketing Hall and Baggage Claim (Pre-Security)
URL:https://www.san.org/event/a-step-beyond-14/
LOCATION:Terminal 1\, 3301 N. Harbor Drive\, San Diego\, CA\, United States
CATEGORIES:Performance
ATTACH;FMTTYPE=image/jpeg:https://www.san.org/wp-content/uploads/2026/02/January29th_2026-57-scaled.jpg
END:VEVENT
END:VCALENDAR