BEGIN:VCALENDAR
VERSION:2.0
PRODID:-//SAN Airport - ECPv6.15.17.1//NONSGML v1.0//EN
CALSCALE:GREGORIAN
METHOD:PUBLISH
X-WR-CALNAME:SAN Airport
X-ORIGINAL-URL:https://www.san.org
X-WR-CALDESC:Events for SAN Airport
REFRESH-INTERVAL;VALUE=DURATION:PT1H
X-Robots-Tag:noindex
X-PUBLISHED-TTL:PT1H
BEGIN:VTIMEZONE
TZID:America/Los_Angeles
BEGIN:DAYLIGHT
TZOFFSETFROM:-0800
TZOFFSETTO:-0700
TZNAME:PDT
DTSTART:20250309T100000
END:DAYLIGHT
BEGIN:STANDARD
TZOFFSETFROM:-0700
TZOFFSETTO:-0800
TZNAME:PST
DTSTART:20251102T090000
END:STANDARD
BEGIN:DAYLIGHT
TZOFFSETFROM:-0800
TZOFFSETTO:-0700
TZNAME:PDT
DTSTART:20260308T100000
END:DAYLIGHT
BEGIN:STANDARD
TZOFFSETFROM:-0700
TZOFFSETTO:-0800
TZNAME:PST
DTSTART:20261101T090000
END:STANDARD
BEGIN:DAYLIGHT
TZOFFSETFROM:-0800
TZOFFSETTO:-0700
TZNAME:PDT
DTSTART:20270314T100000
END:DAYLIGHT
BEGIN:STANDARD
TZOFFSETFROM:-0700
TZOFFSETTO:-0800
TZNAME:PST
DTSTART:20271107T090000
END:STANDARD
END:VTIMEZONE
BEGIN:VEVENT
DTSTART;TZID=America/Los_Angeles:20260423T103000
DTEND;TZID=America/Los_Angeles:20260423T133000
DTSTAMP:20260423T031959
CREATED:20260127T181127Z
LAST-MODIFIED:20260327T195610Z
UID:10000155-1776940200-1776951000@www.san.org
SUMMARY:Pozay
DESCRIPTION:Pozay is an Ocean Beach–based singer\, songwriter\, and multi-instrumentalist known for his warm acoustic sound and laid-back surf-inspired style. A seasoned entertainer with over a decade of experience\, Pozay has performed extensively across the United States and Canada\, blending Top 40\, rock\, pop\, country\, blues\, and reggae into approachable\, feel-good performances. In addition to his solo work\, Pozay is also the lead singer of the band Half Hour Late\, with whom he records original music and tours nationwide.
URL:https://www.san.org/event/pozay/2026-04-23/
LOCATION:Terminal 1 – Heritage Stage
CATEGORIES:Music
ATTACH;FMTTYPE=image/jpeg:https://www.san.org/wp-content/uploads/2025/12/Pozay2-e1769537479548.jpg
END:VEVENT
BEGIN:VEVENT
DTSTART;TZID=America/Los_Angeles:20260423T163000
DTEND;TZID=America/Los_Angeles:20260423T193000
DTSTAMP:20260423T031959
CREATED:20260407T183657Z
LAST-MODIFIED:20260407T183657Z
UID:10000162-1776961800-1776972600@www.san.org
SUMMARY:A Step Beyond
DESCRIPTION:Performing Arts Residency Featuring A Step Beyond \nSan Diego thrives on the influence of transplants and newcomers. This Spring\, A Step Beyond honors the experiences of people making a home in San Diego and brings those journeys of belonging to the airport’s terminal through a series of new dances entitled Migration: Making a Home in Transit. \nA Step Beyond is a North County San Diego–based creative youth development organization that empowers young people through dance\, academic support\, and family services. This year marks the graduation of the organization’s fourth cohort of students\, who have participated in the program from elementary school through high school and are now moving on to college and career paths. \nPerformed by student dancers\, alumni\, and teaching artists\, the project’s site-responsive dances are created with passengers.  Each dance reflects the performers lived experiences and examines how we navigate the meaning of home amid changing environments and the realities of everyday life. \nJoin us for an in-progress rehearsal:  \n4:30-7:30 p.m. | Terminal 1 East Ticketing Hall and Baggage Claim (Pre-Security)
URL:https://www.san.org/event/a-step-beyond-10/
LOCATION:Terminal 1\, 3301 N. Harbor Drive\, San Diego\, CA\, United States
CATEGORIES:Performance
ATTACH;FMTTYPE=image/jpeg:https://www.san.org/wp-content/uploads/2026/02/January29th_2026-57-scaled.jpg
END:VEVENT
END:VCALENDAR