BEGIN:VCALENDAR
VERSION:2.0
PRODID:-//SAN Airport - ECPv6.15.17.1//NONSGML v1.0//EN
CALSCALE:GREGORIAN
METHOD:PUBLISH
X-WR-CALNAME:SAN Airport
X-ORIGINAL-URL:https://www.san.org
X-WR-CALDESC:Events for SAN Airport
REFRESH-INTERVAL;VALUE=DURATION:PT1H
X-Robots-Tag:noindex
X-PUBLISHED-TTL:PT1H
BEGIN:VTIMEZONE
TZID:America/Los_Angeles
BEGIN:DAYLIGHT
TZOFFSETFROM:-0800
TZOFFSETTO:-0700
TZNAME:PDT
DTSTART:20250309T100000
END:DAYLIGHT
BEGIN:STANDARD
TZOFFSETFROM:-0700
TZOFFSETTO:-0800
TZNAME:PST
DTSTART:20251102T090000
END:STANDARD
BEGIN:DAYLIGHT
TZOFFSETFROM:-0800
TZOFFSETTO:-0700
TZNAME:PDT
DTSTART:20260308T100000
END:DAYLIGHT
BEGIN:STANDARD
TZOFFSETFROM:-0700
TZOFFSETTO:-0800
TZNAME:PST
DTSTART:20261101T090000
END:STANDARD
BEGIN:DAYLIGHT
TZOFFSETFROM:-0800
TZOFFSETTO:-0700
TZNAME:PDT
DTSTART:20270314T100000
END:DAYLIGHT
BEGIN:STANDARD
TZOFFSETFROM:-0700
TZOFFSETTO:-0800
TZNAME:PST
DTSTART:20271107T090000
END:STANDARD
END:VTIMEZONE
BEGIN:VEVENT
DTSTART;TZID=America/Los_Angeles:20260212T100000
DTEND;TZID=America/Los_Angeles:20260212T130000
DTSTAMP:20260424T124846
CREATED:20251128T080750Z
LAST-MODIFIED:20260414T201622Z
UID:10000095-1770890400-1770901200@www.san.org
SUMMARY:Petra Persolja
DESCRIPTION:Petra “Platinum Pianist” Persolja is a Slovenian-born\, award-winning pianist known for her expressive style and wide-ranging repertoire\, spanning classical works to pop\, rock\, and cinematic favorites. With a Doctorate in Piano Performance from UC Santa Barbara and appearances at Carnegie Hall and the Kennedy Center\, she brings world-class musicianship to every performance. Learn more about Petra at platinumpianist.com or on Instagram at @platinumpianist.
URL:https://www.san.org/event/petra-persolja/2026-02-12/
LOCATION:Terminal 1 – Heritage Stage
CATEGORIES:Music
ATTACH;FMTTYPE=image/jpeg:https://www.san.org/wp-content/uploads/2025/11/petra-landscape.jpg
END:VEVENT
BEGIN:VEVENT
DTSTART;TZID=America/Los_Angeles:20260212T163000
DTEND;TZID=America/Los_Angeles:20260212T190000
DTSTAMP:20260424T124846
CREATED:20260204T002401Z
LAST-MODIFIED:20260204T002401Z
UID:10000110-1770913800-1770922800@www.san.org
SUMMARY:A Step Beyond
DESCRIPTION:Performing Arts Residency Featuring A Step Beyond \nSan Diego thrives on the influence of transplants and newcomers. This Spring\, A Step Beyond honors the experiences of people making a home in San Diego and brings those journeys of belonging to the airport’s terminal through a series of new dances entitled Migration: Making a Home in Transit. \nA Step Beyond is a North County San Diego–based creative youth development organization that empowers young people through dance\, academic support\, and family services. This year marks the graduation of the organization’s fourth cohort of students\, who have participated in the program from elementary school through high school and are now moving on to college and career paths. \nPerformed by student dancers\, alumni\, and teaching artists\, the project’s site-responsive dances are created with passengers.  Each dance reflects the performers lived experiences and examines how we navigate the meaning of home amid changing environments and the realities of everyday life. \nJoin us for an in-progress rehearsal:  \n4:30-7:00 p.m. | Terminal 1 Departures Pedestrian Walkway
URL:https://www.san.org/event/a-step-beyond/
LOCATION:Terminal 1\, 3301 N. Harbor Drive\, San Diego\, CA\, United States
CATEGORIES:Performance
ATTACH;FMTTYPE=image/jpeg:https://www.san.org/wp-content/uploads/2026/02/January29th_2026-57-scaled.jpg
END:VEVENT
END:VCALENDAR