BEGIN:VCALENDAR
VERSION:2.0
PRODID:-//SAN Airport - ECPv6.15.17.1//NONSGML v1.0//EN
CALSCALE:GREGORIAN
METHOD:PUBLISH
X-ORIGINAL-URL:https://www.san.org
X-WR-CALDESC:Events for SAN Airport
REFRESH-INTERVAL;VALUE=DURATION:PT1H
X-Robots-Tag:noindex
X-PUBLISHED-TTL:PT1H
BEGIN:VTIMEZONE
TZID:America/Los_Angeles
BEGIN:DAYLIGHT
TZOFFSETFROM:-0800
TZOFFSETTO:-0700
TZNAME:PDT
DTSTART:20240310T100000
END:DAYLIGHT
BEGIN:STANDARD
TZOFFSETFROM:-0700
TZOFFSETTO:-0800
TZNAME:PST
DTSTART:20241103T090000
END:STANDARD
BEGIN:DAYLIGHT
TZOFFSETFROM:-0800
TZOFFSETTO:-0700
TZNAME:PDT
DTSTART:20250309T100000
END:DAYLIGHT
BEGIN:STANDARD
TZOFFSETFROM:-0700
TZOFFSETTO:-0800
TZNAME:PST
DTSTART:20251102T090000
END:STANDARD
BEGIN:DAYLIGHT
TZOFFSETFROM:-0800
TZOFFSETTO:-0700
TZNAME:PDT
DTSTART:20260308T100000
END:DAYLIGHT
BEGIN:STANDARD
TZOFFSETFROM:-0700
TZOFFSETTO:-0800
TZNAME:PST
DTSTART:20261101T090000
END:STANDARD
END:VTIMEZONE
BEGIN:VEVENT
DTSTART;TZID=America/Los_Angeles:20251210T100000
DTEND;TZID=America/Los_Angeles:20251210T130000
DTSTAMP:20260421T205017
CREATED:20251202T205149Z
LAST-MODIFIED:20260113T230431Z
UID:10000054-1765360800-1765371600@www.san.org
SUMMARY:Automatic Player Piano
DESCRIPTION:Stop by Terminal 2’s Sunset Cove and enjoy the captivating sounds of our automatic Player Piano. From today’s popular hits to classical favorites like Beethoven\, Bach\, Chopin\, and more. It even plays recordings of Elton John playing live! Grab a seat and relax as “the ghost of SAN” helps brighten your day.
URL:https://www.san.org/event/automatic-player-piano/2025-12-10/
LOCATION:Terminal 2 – Sunset Cove
CATEGORIES:Music
ATTACH;FMTTYPE=image/png:https://www.san.org/wp-content/uploads/2025/12/Sunset-Cove-piano.png
END:VEVENT
END:VCALENDAR