BEGIN:VCALENDAR
VERSION:2.0
PRODID:-//SAN Airport - ECPv6.15.17.1//NONSGML v1.0//EN
CALSCALE:GREGORIAN
METHOD:PUBLISH
X-ORIGINAL-URL:https://www.san.org
X-WR-CALDESC:Events for SAN Airport
REFRESH-INTERVAL;VALUE=DURATION:PT1H
X-Robots-Tag:noindex
X-PUBLISHED-TTL:PT1H
BEGIN:VTIMEZONE
TZID:America/Los_Angeles
BEGIN:DAYLIGHT
TZOFFSETFROM:-0800
TZOFFSETTO:-0700
TZNAME:PDT
DTSTART:20240310T100000
END:DAYLIGHT
BEGIN:STANDARD
TZOFFSETFROM:-0700
TZOFFSETTO:-0800
TZNAME:PST
DTSTART:20241103T090000
END:STANDARD
BEGIN:DAYLIGHT
TZOFFSETFROM:-0800
TZOFFSETTO:-0700
TZNAME:PDT
DTSTART:20250309T100000
END:DAYLIGHT
BEGIN:STANDARD
TZOFFSETFROM:-0700
TZOFFSETTO:-0800
TZNAME:PST
DTSTART:20251102T090000
END:STANDARD
BEGIN:DAYLIGHT
TZOFFSETFROM:-0800
TZOFFSETTO:-0700
TZNAME:PDT
DTSTART:20260308T100000
END:DAYLIGHT
BEGIN:STANDARD
TZOFFSETFROM:-0700
TZOFFSETTO:-0800
TZNAME:PST
DTSTART:20261101T090000
END:STANDARD
END:VTIMEZONE
BEGIN:VEVENT
DTSTART;TZID=America/Los_Angeles:20251126T110000
DTEND;TZID=America/Los_Angeles:20251126T130000
DTSTAMP:20260421T222335
CREATED:20251030T231814Z
LAST-MODIFIED:20251210T190811Z
UID:10000020-1764154800-1764162000@www.san.org
SUMMARY:Kennedy Rose
DESCRIPTION:With her warm\, soulful tone and graceful piano playing\, Kennedy blends jazz\, soul\, pop\, and timeless classics into music that feels both fresh and familiar. \nFrom romantic ballads to high-energy sing-alongs\, she knows how to read the room\, take requests\, and create a soundtrack that perfectly fits the moment. Her performances aren’t just background music — they’re experiences that draw people in. \nKennedy Rose\nLocation: Terminal 2 – Sunset Cove\n11 a.m.-1 p.m.\nkennedyrosemusic.com
URL:https://www.san.org/event/kennedy-rose/
LOCATION:Terminal 2 – Sunset Cove
CATEGORIES:Music
ATTACH;FMTTYPE=image/jpeg:https://www.san.org/wp-content/uploads/2025/10/16.9-Kennedy-Rose.jpg
END:VEVENT
BEGIN:VEVENT
DTSTART;TZID=America/Los_Angeles:20251126T110000
DTEND;TZID=America/Los_Angeles:20251126T130000
DTSTAMP:20260421T222335
CREATED:20251030T232328Z
LAST-MODIFIED:20251210T190811Z
UID:10000021-1764154800-1764162000@www.san.org
SUMMARY:Besos Jazz Trio
DESCRIPTION:Join Besos Jazz Trio for a lively performative experience where tap dance supports the Bass and Guitar as this fun and unexpected percussion element! \nBesos Jazz Trio\nLocation: Terminal 1 Heritage Stage\nTime: 11 a.m. – 1 p.m.\nInstagram: @besosjazztrio
URL:https://www.san.org/event/besos-jazz-trio/
LOCATION:Terminal 1 – Heritage Stage
CATEGORIES:Music
ATTACH;FMTTYPE=image/png:https://www.san.org/wp-content/uploads/2025/10/16.9-Besos-Jazz-Trio.png
END:VEVENT
END:VCALENDAR