BEGIN:VCALENDAR
VERSION:2.0
PRODID:-//SAN Airport - ECPv6.15.17.1//NONSGML v1.0//EN
CALSCALE:GREGORIAN
METHOD:PUBLISH
X-ORIGINAL-URL:https://www.san.org
X-WR-CALDESC:Events for SAN Airport
REFRESH-INTERVAL;VALUE=DURATION:PT1H
X-Robots-Tag:noindex
X-PUBLISHED-TTL:PT1H
BEGIN:VTIMEZONE
TZID:America/Los_Angeles
BEGIN:DAYLIGHT
TZOFFSETFROM:-0800
TZOFFSETTO:-0700
TZNAME:PDT
DTSTART:20240310T100000
END:DAYLIGHT
BEGIN:STANDARD
TZOFFSETFROM:-0700
TZOFFSETTO:-0800
TZNAME:PST
DTSTART:20241103T090000
END:STANDARD
BEGIN:DAYLIGHT
TZOFFSETFROM:-0800
TZOFFSETTO:-0700
TZNAME:PDT
DTSTART:20250309T100000
END:DAYLIGHT
BEGIN:STANDARD
TZOFFSETFROM:-0700
TZOFFSETTO:-0800
TZNAME:PST
DTSTART:20251102T090000
END:STANDARD
BEGIN:DAYLIGHT
TZOFFSETFROM:-0800
TZOFFSETTO:-0700
TZNAME:PDT
DTSTART:20260308T100000
END:DAYLIGHT
BEGIN:STANDARD
TZOFFSETFROM:-0700
TZOFFSETTO:-0800
TZNAME:PST
DTSTART:20261101T090000
END:STANDARD
END:VTIMEZONE
BEGIN:VEVENT
DTSTART;TZID=America/Los_Angeles:20251023T110000
DTEND;TZID=America/Los_Angeles:20251023T130000
DTSTAMP:20260422T000449
CREATED:20251013T210407Z
LAST-MODIFIED:20251210T190811Z
UID:10000017-1761217200-1761224400@www.san.org
SUMMARY:Celina Rescott
DESCRIPTION:Celina Rescott is a versatile San Diego-based vocalist\, pianist\, and songwriter who relocated from upstate New York to join the local music scene. She covers a dynamic range of genres\, including pop\, indie\, country\, R&B\, and rock\, captivating audiences with both original songs and unique covers. Beyond her solo career\, Celina is also the front woman for her pop rock band\, Celina and The Embers. \nLocation: Sunset Cove | 11 a.m.-1 p.m.\ncelinarescottmusic.com
URL:https://www.san.org/event/celina-rescott/
LOCATION:Terminal 2 – Sunset Cove
CATEGORIES:Music
ATTACH;FMTTYPE=image/jpeg:https://www.san.org/wp-content/uploads/2025/10/Celina-Cropped.jpg
END:VEVENT
END:VCALENDAR