BEGIN:VCALENDAR
VERSION:2.0
PRODID:-//SAN Airport - ECPv6.15.17.1//NONSGML v1.0//EN
CALSCALE:GREGORIAN
METHOD:PUBLISH
X-ORIGINAL-URL:https://www.san.org
X-WR-CALDESC:Events for SAN Airport
REFRESH-INTERVAL;VALUE=DURATION:PT1H
X-Robots-Tag:noindex
X-PUBLISHED-TTL:PT1H
BEGIN:VTIMEZONE
TZID:America/Los_Angeles
BEGIN:DAYLIGHT
TZOFFSETFROM:-0800
TZOFFSETTO:-0700
TZNAME:PDT
DTSTART:20240310T100000
END:DAYLIGHT
BEGIN:STANDARD
TZOFFSETFROM:-0700
TZOFFSETTO:-0800
TZNAME:PST
DTSTART:20241103T090000
END:STANDARD
BEGIN:DAYLIGHT
TZOFFSETFROM:-0800
TZOFFSETTO:-0700
TZNAME:PDT
DTSTART:20250309T100000
END:DAYLIGHT
BEGIN:STANDARD
TZOFFSETFROM:-0700
TZOFFSETTO:-0800
TZNAME:PST
DTSTART:20251102T090000
END:STANDARD
BEGIN:DAYLIGHT
TZOFFSETFROM:-0800
TZOFFSETTO:-0700
TZNAME:PDT
DTSTART:20260308T100000
END:DAYLIGHT
BEGIN:STANDARD
TZOFFSETFROM:-0700
TZOFFSETTO:-0800
TZNAME:PST
DTSTART:20261101T090000
END:STANDARD
END:VTIMEZONE
BEGIN:VEVENT
DTSTART;TZID=America/Los_Angeles:20251016T110000
DTEND;TZID=America/Los_Angeles:20251016T130000
DTSTAMP:20260422T000459
CREATED:20251013T210058Z
LAST-MODIFIED:20251210T190811Z
UID:10000016-1760612400-1760619600@www.san.org
SUMMARY:Jesnied Pueblo
DESCRIPTION:Jesnied Pueblo is a young Filipino-American singer-songwriter based in San Diego\, California. His musical journey includes sharing his experiences as a young musician and performing original songs like “Your Love” and “5 More Minutes” on platforms such as the Wish USA Bus. His discography includes singles such as “Nandito Ka Na\,” “Can I\,” and “Without You.” \nJesnied Pueblo\nLocation: Rise Jellyfish | 11am-1pm\nIG: jaypuebloofficial
URL:https://www.san.org/event/jesnied-pueblo/
LOCATION:Terminal 1 – Jellyfish
CATEGORIES:Music
ATTACH;FMTTYPE=image/jpeg:https://www.san.org/wp-content/uploads/2025/10/Jesnied-Cropped-scaled.jpg
END:VEVENT
END:VCALENDAR