BEGIN:VCALENDAR
VERSION:2.0
PRODID:-//SAN Airport - ECPv6.15.17.1//NONSGML v1.0//EN
CALSCALE:GREGORIAN
METHOD:PUBLISH
X-ORIGINAL-URL:https://www.san.org
X-WR-CALDESC:Events for SAN Airport
REFRESH-INTERVAL;VALUE=DURATION:PT1H
X-Robots-Tag:noindex
X-PUBLISHED-TTL:PT1H
BEGIN:VTIMEZONE
TZID:America/Los_Angeles
BEGIN:DAYLIGHT
TZOFFSETFROM:-0800
TZOFFSETTO:-0700
TZNAME:PDT
DTSTART:20240310T100000
END:DAYLIGHT
BEGIN:STANDARD
TZOFFSETFROM:-0700
TZOFFSETTO:-0800
TZNAME:PST
DTSTART:20241103T090000
END:STANDARD
BEGIN:DAYLIGHT
TZOFFSETFROM:-0800
TZOFFSETTO:-0700
TZNAME:PDT
DTSTART:20250309T100000
END:DAYLIGHT
BEGIN:STANDARD
TZOFFSETFROM:-0700
TZOFFSETTO:-0800
TZNAME:PST
DTSTART:20251102T090000
END:STANDARD
BEGIN:DAYLIGHT
TZOFFSETFROM:-0800
TZOFFSETTO:-0700
TZNAME:PDT
DTSTART:20260308T100000
END:DAYLIGHT
BEGIN:STANDARD
TZOFFSETFROM:-0700
TZOFFSETTO:-0800
TZNAME:PST
DTSTART:20261101T090000
END:STANDARD
END:VTIMEZONE
BEGIN:VEVENT
DTSTART;TZID=America/Los_Angeles:20251010T110000
DTEND;TZID=America/Los_Angeles:20251010T130000
DTSTAMP:20260422T013217
CREATED:20251003T210643Z
LAST-MODIFIED:20251210T190811Z
UID:10000015-1760094000-1760101200@www.san.org
SUMMARY:Polka Saxophone Quartet
DESCRIPTION:San Diego Saxophone Quartet \nThe San Diego Saxophone Quartet is a dynamic ensemble of four skilled musicians who bring the soulful and versatile sound of the saxophone to audiences throughout San Diego County. As part of the San Diego Music Consortium\, the group is committed to artistic excellence\, innovation\, and community engagement. Their performances span a wide range of genres\, from classical and jazz to contemporary works\, presented in concert halls\, community events\, schools\, and cultural festivals. With a focus on connection and inspiration\, the quartet strives to create immersive musical experiences that celebrate the richness of San Diego’s cultural landscape. Supported by the Consortium\, they continue to share their passion for music through performance\, outreach\, and education. \nPerformance: \n11 a.m.-1 p.m.\nTerminal 2 West | Sea Rhythms Fountain | Phils BBQ | Sunset Cove
URL:https://www.san.org/event/polka-saxophone-quartet-under-sd-music-consortium/
LOCATION:Terminal 2 West
CATEGORIES:Music
ATTACH;FMTTYPE=image/jpeg:https://www.san.org/wp-content/uploads/2025/10/Saxophone-Quartet-scaled.jpg
END:VEVENT
END:VCALENDAR